BEGIN:VCALENDAR
VERSION:2.0
PRODID:-//eventon.com NONSGML v1.0//EN
CALSCALE:GREGORIAN
METHOD:PUBLISH
BEGIN:VEVENT
UID:69ea39e29b808
DTSTAMP:20260423T152522Z
DTSTART:20221016
DTEND:20221017
LOCATION:
SUMMARY:UVA Children's (Charlottesville\,  VA)
DESCRIPTION:UVA Children's (Charlottesville\,  VA)\nhttps://chasingchildhoo
 ddoc.com/events/uva-childrens-charlottesville-va/
URL:https://chasingchildhooddoc.com/events/uva-childrens-charlottesville-va/
END:VEVENT
END:VCALENDAR