BEGIN:VCALENDAR
VERSION:2.0
PRODID:-//eventon.com NONSGML v1.0//EN
CALSCALE:GREGORIAN
METHOD:PUBLISH
BEGIN:VEVENT
UID:69ea3a08d066d
DTSTAMP:20260423T152600Z
DTSTART:20221025
DTEND:20221026
LOCATION:
SUMMARY:Cal State University - Los Angeles (Los Angeles\,  CA)
DESCRIPTION:Cal State University - Los Angeles (Los Angeles\,  CA)\nhttps:/
 /chasingchildhooddoc.com/events/cal-state-university-los-angeles-los-angele
 s-ca/
URL:https://chasingchildhooddoc.com/events/cal-state-university-los-angeles-los-angeles-ca/
END:VEVENT
END:VCALENDAR