BEGIN:VCALENDAR
VERSION:2.0
PRODID:-//eventon.com NONSGML v1.0//EN
CALSCALE:GREGORIAN
METHOD:PUBLISH
BEGIN:VEVENT
UID:69ea39e254c4a
DTSTAMP:20260423T152522Z
DTSTART:20221109
DTEND:20221110
LOCATION:
SUMMARY:St. Stephen's Episcopal Church (Orinda\,  CA)
DESCRIPTION:St. Stephen's Episcopal Church (Orinda\,  CA)\nhttps://chasingc
 hildhooddoc.com/events/st-stephens-episcopal-church-orinda-ca/
URL:https://chasingchildhooddoc.com/events/st-stephens-episcopal-church-orinda-ca/
END:VEVENT
END:VCALENDAR