BEGIN:VCALENDAR
VERSION:2.0
PRODID:-//eventon.com NONSGML v1.0//EN
CALSCALE:GREGORIAN
METHOD:PUBLISH
BEGIN:VEVENT
UID:69ea3a28f3b8d
DTSTAMP:20260423T152632Z
DTSTART:20221205
DTEND:20221206
LOCATION:
SUMMARY:Northeast Iowa Community College (Dubuque\,  IA)
DESCRIPTION:Northeast Iowa Community College (Dubuque\,  IA)\nhttps://chasi
 ngchildhooddoc.com/events/northeast-iowa-community-college-dubuque-ia/
URL:https://chasingchildhooddoc.com/events/northeast-iowa-community-college-dubuque-ia/
END:VEVENT
END:VCALENDAR