BEGIN:VCALENDAR
VERSION:2.0
PRODID:-//eventon.com NONSGML v1.0//EN
CALSCALE:GREGORIAN
METHOD:PUBLISH
BEGIN:VEVENT
UID:69ea3a8aa2694
DTSTAMP:20260423T152810Z
DTSTART:20230109
DTEND:20230110
LOCATION:
SUMMARY:Home Education Network (Den Haag\,  Nederland)
DESCRIPTION:Home Education Network (Den Haag\,  Nederland)\nhttps://chasing
 childhooddoc.com/events/home-education-network-den-haag-nederland/
URL:https://chasingchildhooddoc.com/events/home-education-network-den-haag-nederland/
END:VEVENT
END:VCALENDAR