BEGIN:VCALENDAR
VERSION:2.0
PRODID:-//eventon.com NONSGML v1.0//EN
CALSCALE:GREGORIAN
METHOD:PUBLISH
BEGIN:VEVENT
UID:69ea3a9d532fb
DTSTAMP:20260423T152829Z
DTSTART:20230109
DTEND:20230110
LOCATION:
SUMMARY:Greenwich Academy (Greenwich\,  CT)
DESCRIPTION:Greenwich Academy (Greenwich\,  CT)\nhttps://chasingchildhooddo
 c.com/events/greenwich-academy-greenwich-ct/
URL:https://chasingchildhooddoc.com/events/greenwich-academy-greenwich-ct/
END:VEVENT
END:VCALENDAR