BEGIN:VCALENDAR
VERSION:2.0
PRODID:-//eventon.com NONSGML v1.0//EN
CALSCALE:GREGORIAN
METHOD:PUBLISH
BEGIN:VEVENT
UID:69ea3a2ce43fb
DTSTAMP:20260423T152636Z
DTSTART:20230115
DTEND:20230116
LOCATION:
SUMMARY:Children's Play - Parent Task Force (Boston\,  MA)
DESCRIPTION:Children's Play - Parent Task Force (Boston\,  MA)\nhttps://cha
 singchildhooddoc.com/events/childrens-play-parent-task-force-boston-ma/
URL:https://chasingchildhooddoc.com/events/childrens-play-parent-task-force-boston-ma/
END:VEVENT
END:VCALENDAR