BEGIN:VCALENDAR
VERSION:2.0
PRODID:-//eventon.com NONSGML v1.0//EN
CALSCALE:GREGORIAN
METHOD:PUBLISH
BEGIN:VEVENT
UID:69ea3a9cb2cde
DTSTAMP:20260423T152828Z
DTSTART:20230118
DTEND:20230119
LOCATION:
SUMMARY:Passages Centre for Self-Directed Learning (Toronto\,  Ontario)
DESCRIPTION:Passages Centre for Self-Directed Learning (Toronto\,  Ontario)
 \nhttps://chasingchildhooddoc.com/events/passages-centre-for-self-directed-
 learning-toronto-ontario/
URL:https://chasingchildhooddoc.com/events/passages-centre-for-self-directed-learning-toronto-ontario/
END:VEVENT
END:VCALENDAR