BEGIN:VCALENDAR
VERSION:2.0
PRODID:-//eventon.com NONSGML v1.0//EN
CALSCALE:GREGORIAN
METHOD:PUBLISH
BEGIN:VEVENT
UID:69ea3a2e2dbbb
DTSTAMP:20260423T152638Z
DTSTART:20230126
DTEND:20230127
LOCATION:
SUMMARY:Massachusetts General Hospital (Boston\,  MA)
DESCRIPTION:Massachusetts General Hospital (Boston\,  MA)\nhttps://chasingc
 hildhooddoc.com/events/massachusetts-general-hospital-boston-ma/
URL:https://chasingchildhooddoc.com/events/massachusetts-general-hospital-boston-ma/
END:VEVENT
END:VCALENDAR