BEGIN:VCALENDAR
VERSION:2.0
PRODID:-//eventon.com NONSGML v1.0//EN
CALSCALE:GREGORIAN
METHOD:PUBLISH
BEGIN:VEVENT
UID:69ea39de7c23a
DTSTAMP:20260423T152518Z
DTSTART:20230203
DTEND:20230204
LOCATION:
SUMMARY:Redding Elementary School PTA (Redding\,  CT)
DESCRIPTION:Redding Elementary School PTA (Redding\,  CT)\nhttps://chasingc
 hildhooddoc.com/events/redding-elementary-school-pta-redding-ct/
URL:https://chasingchildhooddoc.com/events/redding-elementary-school-pta-redding-ct/
END:VEVENT
END:VCALENDAR