BEGIN:VCALENDAR
VERSION:2.0
PRODID:-//eventon.com NONSGML v1.0//EN
CALSCALE:GREGORIAN
METHOD:PUBLISH
BEGIN:VEVENT
UID:69ea39dfd1c92
DTSTAMP:20260423T152519Z
DTSTART:20230209
DTEND:20230210
LOCATION:
SUMMARY:Amherst College (Amherst\,  MA)
DESCRIPTION:Amherst College (Amherst\,  MA)\nhttps://chasingchildhooddoc.co
 m/events/amherst-college-amherst-ma/
URL:https://chasingchildhooddoc.com/events/amherst-college-amherst-ma/
END:VEVENT
END:VCALENDAR