BEGIN:VCALENDAR
VERSION:2.0
PRODID:-//eventon.com NONSGML v1.0//EN
CALSCALE:GREGORIAN
METHOD:PUBLISH
BEGIN:VEVENT
UID:69ea39e5c68eb
DTSTAMP:20260423T152525Z
DTSTART:20230209
DTEND:20230210
LOCATION:
SUMMARY:Old Saybrook Youth & Family Service (Old Saybrook\,  CT)
DESCRIPTION:Old Saybrook Youth &#038; Family Service (Old Saybrook\,  CT)\n
 https://chasingchildhooddoc.com/events/old-saybrook-youth-family-service-ol
 d-saybrook-ct/
URL:https://chasingchildhooddoc.com/events/old-saybrook-youth-family-service-old-saybrook-ct/
END:VEVENT
END:VCALENDAR