BEGIN:VCALENDAR
VERSION:2.0
PRODID:-//eventon.com NONSGML v1.0//EN
CALSCALE:GREGORIAN
METHOD:PUBLISH
BEGIN:VEVENT
UID:69ea3a98b54bb
DTSTAMP:20260423T152824Z
DTSTART:20230214
DTEND:20230215
LOCATION:
SUMMARY:Meaningful Movies Project (Seattle\,  WA)
DESCRIPTION:Meaningful Movies Project (Seattle\,  WA)\nhttps://chasingchild
 hooddoc.com/events/meaningful-movies-project-seattle-wa/
URL:https://chasingchildhooddoc.com/events/meaningful-movies-project-seattle-wa/
END:VEVENT
END:VCALENDAR