BEGIN:VCALENDAR
VERSION:2.0
PRODID:-//eventon.com NONSGML v1.0//EN
CALSCALE:GREGORIAN
METHOD:PUBLISH
BEGIN:VEVENT
UID:69ea39e33516b
DTSTAMP:20260423T152523Z
DTSTART:20230301
DTEND:20230302
LOCATION:
SUMMARY:Winchester Coalition for a Safer Community (Winchester\,  MA)
DESCRIPTION:Winchester Coalition for a Safer Community (Winchester\,  MA)\n
 https://chasingchildhooddoc.com/events/winchester-coalition-for-a-safer-com
 munity-winchester-ma/
URL:https://chasingchildhooddoc.com/events/winchester-coalition-for-a-safer-community-winchester-ma/
END:VEVENT
END:VCALENDAR