BEGIN:VCALENDAR
VERSION:2.0
PRODID:-//eventon.com NONSGML v1.0//EN
CALSCALE:GREGORIAN
METHOD:PUBLISH
BEGIN:VEVENT
UID:69ea39e2298b8
DTSTAMP:20260423T152522Z
DTSTART:20230331
DTEND:20230401
LOCATION:
SUMMARY:Pitt County Schools (Greenville\,  BC)
DESCRIPTION:Pitt County Schools (Greenville\,  BC)\nhttps://chasingchildhoo
 ddoc.com/events/pitt-county-schools-greenville-bc/
URL:https://chasingchildhooddoc.com/events/pitt-county-schools-greenville-bc/
END:VEVENT
END:VCALENDAR