BEGIN:VCALENDAR
VERSION:2.0
PRODID:-//eventon.com NONSGML v1.0//EN
CALSCALE:GREGORIAN
METHOD:PUBLISH
BEGIN:VEVENT
UID:69ea3a2782590
DTSTAMP:20260423T152631Z
DTSTART:20230331
DTEND:20230401
LOCATION:
SUMMARY:Missisquio Valley Union High School (Swanton\,  VT)
DESCRIPTION:Missisquio Valley Union High School (Swanton\,  VT)\nhttps://ch
 asingchildhooddoc.com/events/missisquio-valley-union-high-school-swanton-vt
 /
URL:https://chasingchildhooddoc.com/events/missisquio-valley-union-high-school-swanton-vt/
END:VEVENT
END:VCALENDAR