BEGIN:VCALENDAR
VERSION:2.0
PRODID:-//eventon.com NONSGML v1.0//EN
CALSCALE:GREGORIAN
METHOD:PUBLISH
BEGIN:VEVENT
UID:69ea3a50933fa
DTSTAMP:20260423T152712Z
DTSTART:20230405
DTEND:20230406
LOCATION:
SUMMARY:Georgian Court University (Lakewood\,  NJ)
DESCRIPTION:Georgian Court University (Lakewood\,  NJ)\nhttps://chasingchil
 dhooddoc.com/events/georgian-court-university-lakewood-nj/
URL:https://chasingchildhooddoc.com/events/georgian-court-university-lakewood-nj/
END:VEVENT
END:VCALENDAR