BEGIN:VCALENDAR
VERSION:2.0
PRODID:-//eventon.com NONSGML v1.0//EN
CALSCALE:GREGORIAN
METHOD:PUBLISH
BEGIN:VEVENT
UID:69ea3a7a3b68f
DTSTAMP:20260423T152754Z
DTSTART:20230406
DTEND:20230407
LOCATION:
SUMMARY:Crestmont School (RICHMOND\,  CA)
DESCRIPTION:Crestmont School (RICHMOND\,  CA)\nhttps://chasingchildhooddoc.
 com/events/crestmont-school-richmond-ca/
URL:https://chasingchildhooddoc.com/events/crestmont-school-richmond-ca/
END:VEVENT
END:VCALENDAR