BEGIN:VCALENDAR
VERSION:2.0
PRODID:-//eventon.com NONSGML v1.0//EN
CALSCALE:GREGORIAN
METHOD:PUBLISH
BEGIN:VEVENT
UID:69ea3a0a9e26c
DTSTAMP:20260423T152602Z
DTSTART:20230411
DTEND:20230412
LOCATION:
SUMMARY:Spence (New York\,  NY)
DESCRIPTION:Spence (New York\,  NY)\nhttps://chasingchildhooddoc.com/events
 /spence-new-york-ny/
URL:https://chasingchildhooddoc.com/events/spence-new-york-ny/
END:VEVENT
END:VCALENDAR