BEGIN:VCALENDAR
VERSION:2.0
PRODID:-//eventon.com NONSGML v1.0//EN
CALSCALE:GREGORIAN
METHOD:PUBLISH
BEGIN:VEVENT
UID:69ea3a0b6e2b8
DTSTAMP:20260423T152603Z
DTSTART:20230411
DTEND:20230412
LOCATION:
SUMMARY:School District of Amery (Amery\,  WI)
DESCRIPTION:School District of Amery (Amery\,  WI)\nhttps://chasingchildhoo
 ddoc.com/events/school-district-of-amery-amery-wi/
URL:https://chasingchildhooddoc.com/events/school-district-of-amery-amery-wi/
END:VEVENT
END:VCALENDAR