BEGIN:VCALENDAR
VERSION:2.0
PRODID:-//eventon.com NONSGML v1.0//EN
CALSCALE:GREGORIAN
METHOD:PUBLISH
BEGIN:VEVENT
UID:69ea39d480448
DTSTAMP:20260423T152508Z
DTSTART:20230411
DTEND:20230412
LOCATION:
SUMMARY:Mary Immaculate College (Limerick\,  Ireland)
DESCRIPTION:Mary Immaculate College (Limerick\,  Ireland)\nhttps://chasingc
 hildhooddoc.com/events/mary-immaculate-college-limerick-ireland/
URL:https://chasingchildhooddoc.com/events/mary-immaculate-college-limerick-ireland/
END:VEVENT
END:VCALENDAR