BEGIN:VCALENDAR
VERSION:2.0
PRODID:-//eventon.com NONSGML v1.0//EN
CALSCALE:GREGORIAN
METHOD:PUBLISH
BEGIN:VEVENT
UID:69ea3a523c3b8
DTSTAMP:20260423T152714Z
DTSTART:20230412
DTEND:20230413
LOCATION:
SUMMARY:Ursula Franklin Academy (Toronto\,  Ontario)
DESCRIPTION:Ursula Franklin Academy (Toronto\,  Ontario)\nhttps://chasingch
 ildhooddoc.com/events/ursula-franklin-academy-toronto-ontario/
URL:https://chasingchildhooddoc.com/events/ursula-franklin-academy-toronto-ontario/
END:VEVENT
END:VCALENDAR