BEGIN:VCALENDAR
VERSION:2.0
PRODID:-//eventon.com NONSGML v1.0//EN
CALSCALE:GREGORIAN
METHOD:PUBLISH
BEGIN:VEVENT
UID:69ea3a8a71c5f
DTSTAMP:20260423T152810Z
DTSTART:20230413
DTEND:20230414
LOCATION:
SUMMARY:Cottonwood ALC (Helena\,  MT)
DESCRIPTION:Cottonwood ALC (Helena\,  MT)\nhttps://chasingchildhooddoc.com/
 events/cottonwood-alc-helena-mt-2/
URL:https://chasingchildhooddoc.com/events/cottonwood-alc-helena-mt-2/
END:VEVENT
END:VCALENDAR