BEGIN:VCALENDAR
VERSION:2.0
PRODID:-//eventon.com NONSGML v1.0//EN
CALSCALE:GREGORIAN
METHOD:PUBLISH
BEGIN:VEVENT
UID:69ea3a50dfeaa
DTSTAMP:20260423T152712Z
DTSTART:20230419
DTEND:20230420
LOCATION:
SUMMARY:Tucson Unified School District (Tucson\,  AZ)
DESCRIPTION:Tucson Unified School District (Tucson\,  AZ)\nhttps://chasingc
 hildhooddoc.com/events/tucson-unified-school-district-tucson-az/
URL:https://chasingchildhooddoc.com/events/tucson-unified-school-district-tucson-az/
END:VEVENT
END:VCALENDAR