BEGIN:VCALENDAR
VERSION:2.0
PRODID:-//eventon.com NONSGML v1.0//EN
CALSCALE:GREGORIAN
METHOD:PUBLISH
BEGIN:VEVENT
UID:69ea3a543a717
DTSTAMP:20260423T152716Z
DTSTART:20230419
DTEND:20230420
LOCATION:
SUMMARY:Georgia Gwinnett College (Lawrenceville\,  GA)
DESCRIPTION:Georgia Gwinnett College (Lawrenceville\,  GA)\nhttps://chasing
 childhooddoc.com/events/georgia-gwinnett-college-lawrenceville-ga/
URL:https://chasingchildhooddoc.com/events/georgia-gwinnett-college-lawrenceville-ga/
END:VEVENT
END:VCALENDAR