BEGIN:VCALENDAR
VERSION:2.0
PRODID:-//eventon.com NONSGML v1.0//EN
CALSCALE:GREGORIAN
METHOD:PUBLISH
BEGIN:VEVENT
UID:69ea3a26232c2
DTSTAMP:20260423T152630Z
DTSTART:20230421
DTEND:20230422
LOCATION:
SUMMARY:University of Bremen (Bremen\,  Germany)
DESCRIPTION:University of Bremen (Bremen\,  Germany)\nhttps://chasingchildh
 ooddoc.com/events/university-of-bremen-bremen-germany/
URL:https://chasingchildhooddoc.com/events/university-of-bremen-bremen-germany/
END:VEVENT
END:VCALENDAR