BEGIN:VCALENDAR
VERSION:2.0
PRODID:-//eventon.com NONSGML v1.0//EN
CALSCALE:GREGORIAN
METHOD:PUBLISH
BEGIN:VEVENT
UID:69ea3a8ae63dc
DTSTAMP:20260423T152810Z
DTSTART:20230421
DTEND:20230422
LOCATION:
SUMMARY:Penn State DuBois (DuBois\,  PA)
DESCRIPTION:Penn State DuBois (DuBois\,  PA)\nhttps://chasingchildhooddoc.c
 om/events/penn-state-dubois-dubois-pa/
URL:https://chasingchildhooddoc.com/events/penn-state-dubois-dubois-pa/
END:VEVENT
END:VCALENDAR