BEGIN:VCALENDAR
VERSION:2.0
PRODID:-//eventon.com NONSGML v1.0//EN
CALSCALE:GREGORIAN
METHOD:PUBLISH
BEGIN:VEVENT
UID:69ea3a5485d1d
DTSTAMP:20260423T152716Z
DTSTART:20230425
DTEND:20230426
LOCATION:
SUMMARY:Maltby Elementary (Snohomish\,  WA)
DESCRIPTION:Maltby Elementary (Snohomish\,  WA)\nhttps://chasingchildhooddo
 c.com/events/maltby-elementary-snohomish-wa-2/
URL:https://chasingchildhooddoc.com/events/maltby-elementary-snohomish-wa-2/
END:VEVENT
END:VCALENDAR