BEGIN:VCALENDAR
VERSION:2.0
PRODID:-//eventon.com NONSGML v1.0//EN
CALSCALE:GREGORIAN
METHOD:PUBLISH
BEGIN:VEVENT
UID:69ea3a2a96292
DTSTAMP:20260423T152634Z
DTSTART:20230425
DTEND:20230426
LOCATION:
SUMMARY:Cougar Counseling (Great Bend\,  KS)
DESCRIPTION:Cougar Counseling (Great Bend\,  KS)\nhttps://chasingchildhoodd
 oc.com/events/cougar-counseling-great-bend-ks/
URL:https://chasingchildhooddoc.com/events/cougar-counseling-great-bend-ks/
END:VEVENT
END:VCALENDAR