BEGIN:VCALENDAR
VERSION:2.0
PRODID:-//eventon.com NONSGML v1.0//EN
CALSCALE:GREGORIAN
METHOD:PUBLISH
BEGIN:VEVENT
UID:69ea39df4adda
DTSTAMP:20260423T152519Z
DTSTART:20230426
DTEND:20230427
LOCATION:
SUMMARY:Texas A&M International University (Laredo\,  TX)
DESCRIPTION:Texas A&#038;M International University (Laredo\,  TX)\nhttps:/
 /chasingchildhooddoc.com/events/texas-am-international-university-laredo-tx
 /
URL:https://chasingchildhooddoc.com/events/texas-am-international-university-laredo-tx/
END:VEVENT
END:VCALENDAR