BEGIN:VCALENDAR
VERSION:2.0
PRODID:-//eventon.com NONSGML v1.0//EN
CALSCALE:GREGORIAN
METHOD:PUBLISH
BEGIN:VEVENT
UID:69ea3a51c1232
DTSTAMP:20260423T152713Z
DTSTART:20230426
DTEND:20230427
LOCATION:
SUMMARY:Glendale Community College (Glendale\,  CA)
DESCRIPTION:Glendale Community College (Glendale\,  CA)\nhttps://chasingchi
 ldhooddoc.com/events/glendale-community-college-glendale-ca-3/
URL:https://chasingchildhooddoc.com/events/glendale-community-college-glendale-ca-3/
END:VEVENT
END:VCALENDAR