BEGIN:VCALENDAR
VERSION:2.0
PRODID:-//eventon.com NONSGML v1.0//EN
CALSCALE:GREGORIAN
METHOD:PUBLISH
BEGIN:VEVENT
UID:69ea3aa78b25e
DTSTAMP:20260423T152839Z
DTSTART:20230427
DTEND:20230428
LOCATION:
SUMMARY:New Hampshire Estates ES (Silver Spring\,  MD)
DESCRIPTION:New Hampshire Estates ES (Silver Spring\,  MD)\nhttps://chasing
 childhooddoc.com/events/new-hampshire-estates-es-silver-spring-md/
URL:https://chasingchildhooddoc.com/events/new-hampshire-estates-es-silver-spring-md/
END:VEVENT
END:VCALENDAR