BEGIN:VCALENDAR
VERSION:2.0
PRODID:-//eventon.com NONSGML v1.0//EN
CALSCALE:GREGORIAN
METHOD:PUBLISH
BEGIN:VEVENT
UID:69ea3af2a5819
DTSTAMP:20260423T152954Z
DTSTART:20230428
DTEND:20230429
LOCATION:
SUMMARY:Multnomah Education Service District (Portland\,  OR)
DESCRIPTION:Multnomah Education Service District (Portland\,  OR)\nhttps://
 chasingchildhooddoc.com/events/multnomah-education-service-district-portlan
 d-or/
URL:https://chasingchildhooddoc.com/events/multnomah-education-service-district-portland-or/
END:VEVENT
END:VCALENDAR