BEGIN:VCALENDAR
VERSION:2.0
PRODID:-//eventon.com NONSGML v1.0//EN
CALSCALE:GREGORIAN
METHOD:PUBLISH
BEGIN:VEVENT
UID:69ea3a7730c5b
DTSTAMP:20260423T152751Z
DTSTART:20230501
DTEND:20230502
LOCATION:
SUMMARY:We Ski II (Redding\,  CA)
DESCRIPTION:We Ski II (Redding\,  CA)\nhttps://chasingchildhooddoc.com/even
 ts/we-ski-ii-redding-ca/
URL:https://chasingchildhooddoc.com/events/we-ski-ii-redding-ca/
END:VEVENT
END:VCALENDAR