BEGIN:VCALENDAR
VERSION:2.0
PRODID:-//eventon.com NONSGML v1.0//EN
CALSCALE:GREGORIAN
METHOD:PUBLISH
BEGIN:VEVENT
UID:69ea3af2e776b
DTSTAMP:20260423T152954Z
DTSTART:20230501
DTEND:20230502
LOCATION:
SUMMARY:TDSB (Norway PS) (Toronto\,  Ontario)
DESCRIPTION:TDSB (Norway PS) (Toronto\,  Ontario)\nhttps://chasingchildhood
 doc.com/events/tdsb-norway-ps-toronto-ontario/
URL:https://chasingchildhooddoc.com/events/tdsb-norway-ps-toronto-ontario/
END:VEVENT
END:VCALENDAR