BEGIN:VCALENDAR
VERSION:2.0
PRODID:-//eventon.com NONSGML v1.0//EN
CALSCALE:GREGORIAN
METHOD:PUBLISH
BEGIN:VEVENT
UID:69ea3a88eef67
DTSTAMP:20260423T152808Z
DTSTART:20230501
DTEND:20230502
LOCATION:
SUMMARY:Georgetown University- Qatar (Doha\,  State of Qatar)
DESCRIPTION:Georgetown University- Qatar (Doha\,  State of Qatar)\nhttps://
 chasingchildhooddoc.com/events/georgetown-university-qatar-doha-state-of-qa
 tar/
URL:https://chasingchildhooddoc.com/events/georgetown-university-qatar-doha-state-of-qatar/
END:VEVENT
END:VCALENDAR