BEGIN:VCALENDAR
VERSION:2.0
PRODID:-//eventon.com NONSGML v1.0//EN
CALSCALE:GREGORIAN
METHOD:PUBLISH
BEGIN:VEVENT
UID:69ea3aa40d26b
DTSTAMP:20260423T152836Z
DTSTART:20230501
DTEND:20230502
LOCATION:
SUMMARY:Chicago Public Schools (Chicago\,  IL)
DESCRIPTION:Chicago Public Schools (Chicago\,  IL)\nhttps://chasingchildhoo
 ddoc.com/events/chicago-public-schools-chicago-il/
URL:https://chasingchildhooddoc.com/events/chicago-public-schools-chicago-il/
END:VEVENT
END:VCALENDAR