BEGIN:VCALENDAR
VERSION:2.0
PRODID:-//eventon.com NONSGML v1.0//EN
CALSCALE:GREGORIAN
METHOD:PUBLISH
BEGIN:VEVENT
UID:69ea3a85906a4
DTSTAMP:20260423T152805Z
DTSTART:20230501
DTEND:20230502
LOCATION:
SUMMARY:Beaconhouse (Lahore\,  Pakistan)
DESCRIPTION:Beaconhouse (Lahore\,  Pakistan)\nhttps://chasingchildhooddoc.c
 om/events/beaconhouse-lahore-pakistan/
URL:https://chasingchildhooddoc.com/events/beaconhouse-lahore-pakistan/
END:VEVENT
END:VCALENDAR