BEGIN:VCALENDAR
VERSION:2.0
PRODID:-//eventon.com NONSGML v1.0//EN
CALSCALE:GREGORIAN
METHOD:PUBLISH
BEGIN:VEVENT
UID:69ea3aa57db92
DTSTAMP:20260423T152837Z
DTSTART:20230502
DTEND:20230503
LOCATION:
SUMMARY:The Rippleton Center (Cazenovia\,  NY)
DESCRIPTION:The Rippleton Center (Cazenovia\,  NY)\nhttps://chasingchildhoo
 ddoc.com/events/the-rippleton-center-cazenovia-ny/
URL:https://chasingchildhooddoc.com/events/the-rippleton-center-cazenovia-ny/
END:VEVENT
END:VCALENDAR