BEGIN:VCALENDAR
VERSION:2.0
PRODID:-//eventon.com NONSGML v1.0//EN
CALSCALE:GREGORIAN
METHOD:PUBLISH
BEGIN:VEVENT
UID:69ea39e39bd07
DTSTAMP:20260423T152523Z
DTSTART:20230504
DTEND:20230505
LOCATION:
SUMMARY:Rippleton Center (Cazenovia\,  NY)
DESCRIPTION:Rippleton Center (Cazenovia\,  NY)\nhttps://chasingchildhooddoc
 .com/events/rippleton-center-cazenovia-ny/
URL:https://chasingchildhooddoc.com/events/rippleton-center-cazenovia-ny/
END:VEVENT
END:VCALENDAR