BEGIN:VCALENDAR
VERSION:2.0
PRODID:-//eventon.com NONSGML v1.0//EN
CALSCALE:GREGORIAN
METHOD:PUBLISH
BEGIN:VEVENT
UID:69ea3b0584dd8
DTSTAMP:20260423T153013Z
DTSTART:20230504
DTEND:20230505
LOCATION:
SUMMARY:Merck Research Laboratories (South San Francisco\,  CA)
DESCRIPTION:Merck Research Laboratories (South San Francisco\,  CA)\nhttps:
 //chasingchildhooddoc.com/events/merck-research-laboratories-south-san-fran
 cisco-ca/
URL:https://chasingchildhooddoc.com/events/merck-research-laboratories-south-san-francisco-ca/
END:VEVENT
END:VCALENDAR