BEGIN:VCALENDAR
VERSION:2.0
PRODID:-//eventon.com NONSGML v1.0//EN
CALSCALE:GREGORIAN
METHOD:PUBLISH
BEGIN:VEVENT
UID:69ea3a8769f33
DTSTAMP:20260423T152807Z
DTSTART:20230504
DTEND:20230505
LOCATION:
SUMMARY:Braeburn School (Nairobi\,  Kenya)
DESCRIPTION:Braeburn School (Nairobi\,  Kenya)\nhttps://chasingchildhooddoc
 .com/events/braeburn-school-nairobi-kenya/
URL:https://chasingchildhooddoc.com/events/braeburn-school-nairobi-kenya/
END:VEVENT
END:VCALENDAR