BEGIN:VCALENDAR
VERSION:2.0
PRODID:-//eventon.com NONSGML v1.0//EN
CALSCALE:GREGORIAN
METHOD:PUBLISH
BEGIN:VEVENT
UID:69ea3aa73e15e
DTSTAMP:20260423T152839Z
DTSTART:20230504
DTEND:20230505
LOCATION:
SUMMARY:Atlantic Public Library (Atlantic\,  IA)
DESCRIPTION:Atlantic Public Library (Atlantic\,  IA)\nhttps://chasingchildh
 ooddoc.com/events/atlantic-public-library-atlantic-ia/
URL:https://chasingchildhooddoc.com/events/atlantic-public-library-atlantic-ia/
END:VEVENT
END:VCALENDAR