BEGIN:VCALENDAR
VERSION:2.0
PRODID:-//eventon.com NONSGML v1.0//EN
CALSCALE:GREGORIAN
METHOD:PUBLISH
BEGIN:VEVENT
UID:69ea3a7463660
DTSTAMP:20260423T152748Z
DTSTART:20230505
DTEND:20230506
LOCATION:
SUMMARY:United Independent School District (Laredo\,  TX)
DESCRIPTION:United Independent School District (Laredo\,  TX)\nhttps://chas
 ingchildhooddoc.com/events/united-independent-school-district-laredo-tx/
URL:https://chasingchildhooddoc.com/events/united-independent-school-district-laredo-tx/
END:VEVENT
END:VCALENDAR