BEGIN:VCALENDAR
VERSION:2.0
PRODID:-//eventon.com NONSGML v1.0//EN
CALSCALE:GREGORIAN
METHOD:PUBLISH
BEGIN:VEVENT
UID:69ea3a8583dd7
DTSTAMP:20260423T152805Z
DTSTART:20230505
DTEND:20230506
LOCATION:
SUMMARY:University College Cork (Cork\,  Ireland)
DESCRIPTION:University College Cork (Cork\,  Ireland)\nhttps://chasingchild
 hooddoc.com/events/university-college-cork-cork-ireland/
URL:https://chasingchildhooddoc.com/events/university-college-cork-cork-ireland/
END:VEVENT
END:VCALENDAR