BEGIN:VCALENDAR
VERSION:2.0
PRODID:-//eventon.com NONSGML v1.0//EN
CALSCALE:GREGORIAN
METHOD:PUBLISH
BEGIN:VEVENT
UID:69ea3aff8227b
DTSTAMP:20260423T153007Z
DTSTART:20230505
DTEND:20230506
LOCATION:
SUMMARY:surrey schools (SURREY\,  British Columbia)
DESCRIPTION:surrey schools (SURREY\,  British Columbia)\nhttps://chasingchi
 ldhooddoc.com/events/surrey-schools-surrey-british-columbia/
URL:https://chasingchildhooddoc.com/events/surrey-schools-surrey-british-columbia/
END:VEVENT
END:VCALENDAR