BEGIN:VCALENDAR
VERSION:2.0
PRODID:-//eventon.com NONSGML v1.0//EN
CALSCALE:GREGORIAN
METHOD:PUBLISH
BEGIN:VEVENT
UID:69ea3a74abb07
DTSTAMP:20260423T152748Z
DTSTART:20230505
DTEND:20230506
LOCATION:
SUMMARY:Stantec (vancouver\,  BC)
DESCRIPTION:Stantec (vancouver\,  BC)\nhttps://chasingchildhooddoc.com/even
 ts/stantec-vancouver-bc/
URL:https://chasingchildhooddoc.com/events/stantec-vancouver-bc/
END:VEVENT
END:VCALENDAR