BEGIN:VCALENDAR
VERSION:2.0
PRODID:-//eventon.com NONSGML v1.0//EN
CALSCALE:GREGORIAN
METHOD:PUBLISH
BEGIN:VEVENT
UID:69ea3a9a45b7c
DTSTAMP:20260423T152826Z
DTSTART:20230505
DTEND:20230506
LOCATION:
SUMMARY:Slice Literacy and Coaching Services (Jackson\,  MS)
DESCRIPTION:Slice Literacy and Coaching Services (Jackson\,  MS)\nhttps://c
 hasingchildhooddoc.com/events/slice-literacy-and-coaching-services-jackson-
 ms/
URL:https://chasingchildhooddoc.com/events/slice-literacy-and-coaching-services-jackson-ms/
END:VEVENT
END:VCALENDAR