BEGIN:VCALENDAR
VERSION:2.0
PRODID:-//eventon.com NONSGML v1.0//EN
CALSCALE:GREGORIAN
METHOD:PUBLISH
BEGIN:VEVENT
UID:69e6907b4a2e4
DTSTAMP:20260420T204547Z
DTSTART:20230505
DTEND:20230506
LOCATION:
SUMMARY:Santa Clara University (Santa Clara\,  CA)
DESCRIPTION:Santa Clara University (Santa Clara\,  CA)\nhttps://chasingchil
 dhooddoc.com/events/santa-clara-university-santa-clara-ca/
URL:https://chasingchildhooddoc.com/events/santa-clara-university-santa-clara-ca/
END:VEVENT
END:VCALENDAR