BEGIN:VCALENDAR
VERSION:2.0
PRODID:-//eventon.com NONSGML v1.0//EN
CALSCALE:GREGORIAN
METHOD:PUBLISH
BEGIN:VEVENT
UID:69ea3a50a0ddd
DTSTAMP:20260423T152712Z
DTSTART:20230505
DTEND:20230506
LOCATION:
SUMMARY:One City Schools (Madison\,  WI)
DESCRIPTION:One City Schools (Madison\,  WI)\nhttps://chasingchildhooddoc.c
 om/events/one-city-schools-madison-wi/
URL:https://chasingchildhooddoc.com/events/one-city-schools-madison-wi/
END:VEVENT
END:VCALENDAR